BEGIN:VCALENDAR
METHOD:PUBLISH
VERSION:2.0
PRODID:-//Eventilla iCal Syndication//NONSGML Liana//EN
BEGIN:VEVENT
UID:d4Yk0@eventilla.com
DTSTAMP:20260331T060000Z
DTSTART:20260331T060000Z
DTEND:20260401T140000Z
SUMMARY:Certified Scrum Product Owner® - Tehopaketti priorisoinnista Tuoteomistajille
DESCRIPTION:Oletko Tuoteomistaja tai työskentelet tuotekehityksessä? Saat konkreettiset työkalut priorisointiin ja yhteistyöhön niin liiketoiminnan\, käyttäjien kuin kehitystiimin kanssa.
LOCATION:Hilton Strand\, John Stenbergin ranta 4\, 00530\, Helsinki\,
 Suomi
URL:http://koulutukset.satorikoulutuspalvelut.fi/cspo-hki-2026-03-31
END:VEVENT
END:VCALENDAR
